BEGIN:VCALENDAR
VERSION:2.0
PRODID:SchoolNow
CALSCALE:GREGORIAN
BEGIN:VEVENT
UID:5988e112-885a-11f0-b7a3-0e5ce71a5aa5
DTSTAMP:20251216T200024Z
SUMMARY:Invite Only Parent Teacher Conference & 1 hour Early Out (1st - 5th
  Grade)
URL;VALUE=URI:https://www.tusd.org/schools/adams/calendar/8572676/invite-on
 ly-parent-teacher-conference-1-hour-early-out-1st-5th-grade
DTSTART;VALUE=DATE:20260325
DTEND;VALUE=DATE:20260328
END:VEVENT
END:VCALENDAR
