BEGIN:VCALENDAR
VERSION:2.0
PRODID:SchoolNow
CALSCALE:GREGORIAN
BEGIN:VEVENT
UID:5988de88-885a-11f0-a60e-0e5ce71a5aa5
DTSTAMP:20251216T200025Z
SUMMARY:Parents able to view Progress Report on PowerSchool
URL;VALUE=URI:https://www.tusd.org/schools/adams/calendar/8572675/parents-a
 ble-to-view-progress-report-on-powerschool
DTSTART;VALUE=DATE:20260320
DTEND;VALUE=DATE:20260321
END:VEVENT
END:VCALENDAR
