BEGIN:VCALENDAR
VERSION:2.0
PRODID:SchoolNow
CALSCALE:GREGORIAN
BEGIN:VEVENT
UID:5988dda2-885a-11f0-bfef-0e5ce71a5aa5
DTSTAMP:20251216T200025Z
SUMMARY:Spring Picture Day
URL;VALUE=URI:https://www.tusd.org/schools/adams/calendar/8572674/spring-pi
 cture-day
DTSTART;VALUE=DATE:20260312
DTEND;VALUE=DATE:20260313
END:VEVENT
END:VCALENDAR
