BEGIN:VCALENDAR
VERSION:2.0
PRODID:SchoolNow
CALSCALE:GREGORIAN
BEGIN:VEVENT
UID:5988dca8-885a-11f0-a5b8-0e5ce71a5aa5
DTSTAMP:20251216T200024Z
SUMMARY:101st Day of School!
URL;VALUE=URI:https://www.tusd.org/schools/adams/calendar/8572673/101st-day
 -of-school
DTSTART;VALUE=DATE:20260206
DTEND;VALUE=DATE:20260207
END:VEVENT
END:VCALENDAR
