BEGIN:VCALENDAR
VERSION:2.0
PRODID:SchoolNow
CALSCALE:GREGORIAN
BEGIN:VEVENT
UID:5988dad2-885a-11f0-97a7-0e5ce71a5aa5
DTSTAMP:20251216T200025Z
SUMMARY:Parent Teacher Conferences & 1 hour Early Out 1st - 5th Grade
URL;VALUE=URI:https://www.tusd.org/schools/adams/calendar/8572671/parent-te
 acher-conferences-1-hour-early-out-1st-5th-grade
DTSTART;VALUE=DATE:20260120
DTEND;VALUE=DATE:20260130
END:VEVENT
END:VCALENDAR
