BEGIN:VCALENDAR
VERSION:2.0
PRODID:SchoolNow
CALSCALE:GREGORIAN
BEGIN:VEVENT
UID:5988d9ec-885a-11f0-9800-0e5ce71a5aa5
DTSTAMP:20251216T200024Z
SUMMARY:Parents able to view Achievement Report on PowerSchool
URL;VALUE=URI:https://www.tusd.org/schools/adams/calendar/8572670/parents-a
 ble-to-view-achievement-report-on-powerschool
DTSTART;VALUE=DATE:20260116
DTEND;VALUE=DATE:20260117
END:VEVENT
END:VCALENDAR
