BEGIN:VCALENDAR
VERSION:2.0
PRODID:SchoolNow
CALSCALE:GREGORIAN
BEGIN:VEVENT
UID:5988d906-885a-11f0-a5e1-0e5ce71a5aa5
DTSTAMP:20251216T200024Z
SUMMARY:Parents able to view Progress Report on PowerSchool
URL;VALUE=URI:https://www.tusd.org/schools/adams/calendar/8572669/parents-a
 ble-to-view-progress-report-on-powerschool
DTSTART;VALUE=DATE:20251205
DTEND;VALUE=DATE:20251206
END:VEVENT
END:VCALENDAR
