BEGIN:VCALENDAR
VERSION:2.0
PRODID:SchoolNow
CALSCALE:GREGORIAN
BEGIN:VEVENT
UID:5988d73a-885a-11f0-9c61-0e5ce71a5aa5
DTSTAMP:20251216T200024Z
SUMMARY:Invite Only Parent Teacher Conferences & 1 hour Early Out for 1st -
  5th Grades
URL;VALUE=URI:https://www.tusd.org/schools/adams/calendar/8572667/invite-on
 ly-parent-teacher-conferences-1-hour-early-out-for-1st-5th-grades
DTSTART;VALUE=DATE:20251016
DTEND;VALUE=DATE:20251018
END:VEVENT
END:VCALENDAR
