BEGIN:VCALENDAR
VERSION:2.0
PRODID:SchoolNow
CALSCALE:GREGORIAN
BEGIN:VEVENT
UID:5988d64a-885a-11f0-83ef-0e5ce71a5aa5
DTSTAMP:20251216T200025Z
SUMMARY:Parents able to view Progress Reports on PowerSchool
URL;VALUE=URI:https://www.tusd.org/schools/adams/calendar/8572666/parents-a
 ble-to-view-progress-reports-on-powerschool
DTSTART;VALUE=DATE:20251010
DTEND;VALUE=DATE:20251011
END:VEVENT
END:VCALENDAR
