BEGIN:VCALENDAR
VERSION:2.0
PRODID:SchoolNow
CALSCALE:GREGORIAN
BEGIN:VEVENT
UID:5988d55a-885a-11f0-aea2-0e5ce71a5aa5
DTSTAMP:20251216T200024Z
SUMMARY:Fall Picture Day
URL;VALUE=URI:https://www.tusd.org/schools/adams/calendar/8572665/fall-pict
 ure-day
DTSTART;VALUE=DATE:20251010
DTEND;VALUE=DATE:20251011
END:VEVENT
END:VCALENDAR
