BEGIN:VCALENDAR
VERSION:2.0
PRODID:SchoolNow
CALSCALE:GREGORIAN
BEGIN:VEVENT
UID:5988d46a-885a-11f0-945b-0e5ce71a5aa5
DTSTAMP:20251216T200024Z
SUMMARY:PTA Meeting in Cafeteria
URL;VALUE=URI:https://www.tusd.org/schools/adams/calendar/8572664/pta-meeti
 ng-in-cafeteria
DTSTART:20250919T011500Z
DTEND:20250919T014400Z
END:VEVENT
END:VCALENDAR
