BEGIN:VCALENDAR
VERSION:2.0
PRODID:SchoolNow
CALSCALE:GREGORIAN
BEGIN:VEVENT
UID:5988d366-885a-11f0-b048-0e5ce71a5aa5
DTSTAMP:20251216T200024Z
SUMMARY:[TK-2nd] Adams Back to School Night 6:45pm - 7:30pm
URL;VALUE=URI:https://www.tusd.org/schools/adams/calendar/8572663/tk-2nd-ad
 ams-back-to-school-night-6-45pm-7-30pm
DTSTART:20250919T014500Z
DTEND:20250919T023000Z
END:VEVENT
END:VCALENDAR
