BEGIN:VCALENDAR
VERSION:2.0
PRODID:SchoolNow
CALSCALE:GREGORIAN
BEGIN:VEVENT
UID:5988d244-885a-11f0-8fda-0e5ce71a5aa5
DTSTAMP:20251216T200024Z
SUMMARY:1 hour early dismissal for 1st-5th Grades (Due to Adams Back To Sch
 ool Night)
URL;VALUE=URI:https://www.tusd.org/schools/adams/calendar/8572662/1-hour-ea
 rly-dismissal-for-1st-5th-grades-due-to-adams-back-to-school-night
DTSTART;VALUE=DATE:20250918
DTEND;VALUE=DATE:20250919
END:VEVENT
END:VCALENDAR
