BEGIN:VCALENDAR
VERSION:2.0
PRODID:SchoolNow
CALSCALE:GREGORIAN
BEGIN:VEVENT
UID:5988d096-885a-11f0-924a-0e5ce71a5aa5
DTSTAMP:20251216T200024Z
SUMMARY:[3rd-5th Grade] Adams Back to School Night 5:30pm - 6:14pm
URL;VALUE=URI:https://www.tusd.org/schools/adams/calendar/8572661/3rd-5th-g
 rade-adams-back-to-school-night-5-30pm-6-14pm
DTSTART:20250919T003000Z
DTEND:20250919T011400Z
END:VEVENT
END:VCALENDAR
