BEGIN:VCALENDAR
VERSION:2.0
PRODID:SchoolNow
CALSCALE:GREGORIAN
BEGIN:VEVENT
UID:5988b0ca-885a-11f0-bdf2-0e5ce71a5aa5
DTSTAMP:20251216T200024Z
SUMMARY:No School - Staff Development/Student Free Day
URL;VALUE=URI:https://www.tusd.org/schools/adams/calendar/8572660/no-school
 -staff-development-student-free-day
DTSTART;VALUE=DATE:20250919
DTEND;VALUE=DATE:20250920
END:VEVENT
END:VCALENDAR
