BEGIN:VCALENDAR
VERSION:2.0
PRODID:SchoolNow
CALSCALE:GREGORIAN
BEGIN:VEVENT
UID:8df46f0c-845e-11f0-84ec-0a58a9feac02
DTSTAMP:20251216T200025Z
SUMMARY:Skechers Walk
URL;VALUE=URI:https://www.tusd.org/schools/adams/calendar/8555750/skechers-
 walk
DTSTART;VALUE=DATE:20251019
DTEND;VALUE=DATE:20251020
END:VEVENT
END:VCALENDAR
