BEGIN:VCALENDAR
VERSION:2.0
PRODID:SchoolNow
CALSCALE:GREGORIAN
BEGIN:VEVENT
UID:eb42a8f4-7eff-11f0-84a5-023ad98bf771
DTSTAMP:20251216T200024Z
SUMMARY:No School (Local Non-Instructional Day)
URL;VALUE=URI:https://www.tusd.org/schools/adams/calendar/8531096/no-school
 -local-non-instructional-day
DTSTART;VALUE=DATE:20260501
DTEND;VALUE=DATE:20260502
END:VEVENT
END:VCALENDAR
