BEGIN:VCALENDAR
VERSION:2.0
PRODID:SchoolNow
CALSCALE:GREGORIAN
BEGIN:VEVENT
UID:eb42a80e-7eff-11f0-95af-023ad98bf771
DTSTAMP:20251216T200024Z
SUMMARY:No School (Local non-instructional day)
URL;VALUE=URI:https://www.tusd.org/schools/adams/calendar/8531095/no-school
 -local-non-instructional-day
DTSTART;VALUE=DATE:20251110
DTEND;VALUE=DATE:20251111
END:VEVENT
END:VCALENDAR
