BEGIN:VCALENDAR
VERSION:2.0
PRODID:SchoolNow
CALSCALE:GREGORIAN
BEGIN:VEVENT
UID:eb42a55c-7eff-11f0-bd49-023ad98bf771
DTSTAMP:20251216T200024Z
SUMMARY:No School- President's Day
URL;VALUE=URI:https://www.tusd.org/schools/adams/calendar/8531092/no-school
 -presidents-day
DTSTART;VALUE=DATE:20260216
DTEND;VALUE=DATE:20260217
END:VEVENT
END:VCALENDAR
