BEGIN:VCALENDAR
VERSION:2.0
PRODID:SchoolNow
CALSCALE:GREGORIAN
BEGIN:VEVENT
UID:eb42a476-7eff-11f0-8019-023ad98bf771
DTSTAMP:20251216T200025Z
SUMMARY:No School - Lincoln's Day
URL;VALUE=URI:https://www.tusd.org/schools/adams/calendar/8531091/no-school
 -lincolns-day
DTSTART;VALUE=DATE:20260209
DTEND;VALUE=DATE:20260210
END:VEVENT
END:VCALENDAR
