BEGIN:VCALENDAR
VERSION:2.0
PRODID:SchoolNow
CALSCALE:GREGORIAN
BEGIN:VEVENT
UID:eb42a386-7eff-11f0-9ce2-023ad98bf771
DTSTAMP:20251216T200024Z
SUMMARY:No School - MLK Jr. Day
URL;VALUE=URI:https://www.tusd.org/schools/adams/calendar/8531090/no-school
 -mlk-jr-day
DTSTART;VALUE=DATE:20260119
DTEND;VALUE=DATE:20260120
END:VEVENT
END:VCALENDAR
