BEGIN:VCALENDAR
VERSION:2.0
PRODID:SchoolNow
CALSCALE:GREGORIAN
BEGIN:VEVENT
UID:eb42a19c-7eff-11f0-a7d2-023ad98bf771
DTSTAMP:20251216T200025Z
SUMMARY:No School (Local Non-Instructional Day)
URL;VALUE=URI:https://www.tusd.org/schools/adams/calendar/8531088/no-school
 -local-non-instructional-day
DTSTART;VALUE=DATE:20251124
DTEND;VALUE=DATE:20251127
END:VEVENT
END:VCALENDAR
