BEGIN:VCALENDAR
VERSION:2.0
PRODID:SchoolNow
CALSCALE:GREGORIAN
BEGIN:VEVENT
UID:eb42a08e-7eff-11f0-aa0a-023ad98bf771
DTSTAMP:20251216T200025Z
SUMMARY:No School - Thanksgiving Holiday
URL;VALUE=URI:https://www.tusd.org/schools/adams/calendar/8531087/no-school
 -thanksgiving-holiday
DTSTART;VALUE=DATE:20251128
DTEND;VALUE=DATE:20251129
END:VEVENT
END:VCALENDAR
