BEGIN:VCALENDAR
VERSION:2.0
PRODID:SchoolNow
CALSCALE:GREGORIAN
BEGIN:VEVENT
UID:eb429f6c-7eff-11f0-9d2f-023ad98bf771
DTSTAMP:20251216T200024Z
SUMMARY:No School - Thanksgiving Day
URL;VALUE=URI:https://www.tusd.org/schools/adams/calendar/8531086/no-school
 -thanksgiving-day
DTSTART;VALUE=DATE:20251127
DTEND;VALUE=DATE:20251128
END:VEVENT
END:VCALENDAR
