BEGIN:VCALENDAR
VERSION:2.0
PRODID:SchoolNow
CALSCALE:GREGORIAN
BEGIN:VEVENT
UID:eb429ddc-7eff-11f0-ad00-023ad98bf771
DTSTAMP:20251216T200025Z
SUMMARY:No School - Veterans Day
URL;VALUE=URI:https://www.tusd.org/schools/adams/calendar/8531085/no-school
 -veterans-day
DTSTART;VALUE=DATE:20251111
DTEND;VALUE=DATE:20251112
END:VEVENT
END:VCALENDAR
