BEGIN:VCALENDAR
VERSION:2.0
PRODID:SchoolNow
CALSCALE:GREGORIAN
BEGIN:VEVENT
UID:eb427ce4-7eff-11f0-86db-023ad98bf771
DTSTAMP:20251216T200025Z
SUMMARY:Labor Day - No School
URL;VALUE=URI:https://www.tusd.org/schools/adams/calendar/8531084/labor-day
 -no-school
DTSTART;VALUE=DATE:20250901
DTEND;VALUE=DATE:20250902
END:VEVENT
END:VCALENDAR
