BEGIN:VCALENDAR
VERSION:2.0
PRODID:SchoolNow
CALSCALE:GREGORIAN
BEGIN:VEVENT
UID:1a3989e2-7e34-11f0-b732-0e3ee2d3e6a5
DTSTAMP:20251216T200025Z
SUMMARY:Principal Meet and Greet & 1st ELMAC Meeting in the Cafeteria
URL;VALUE=URI:https://www.tusd.org/schools/adams/calendar/8526728/principal
 -meet-and-greet-1st-elmac-meeting-in-the-cafeteria
DTSTART:20250821T160000Z
DTEND:20250821T170000Z
END:VEVENT
END:VCALENDAR
