BEGIN:VCALENDAR
VERSION:2.0
PRODID:SchoolNow
CALSCALE:GREGORIAN
BEGIN:VEVENT
UID:0cba6b00-7c69-11f0-98ac-0a58a9feac02
DTSTAMP:20251216T200025Z
SUMMARY:TK & Kinder Dismissal 11:50 a.m.
URL;VALUE=URI:https://www.tusd.org/schools/adams/calendar/8518944/tk-kinder
 -dismissal-11-50-a-m
DTSTART;VALUE=DATE:20250821
DTEND;VALUE=DATE:20250823
END:VEVENT
END:VCALENDAR
