BEGIN:VCALENDAR
VERSION:2.0
PRODID:SchoolNow
CALSCALE:GREGORIAN
BEGIN:VEVENT
UID:339bf4d2-796c-11f0-a42c-0affd2226c49
DTSTAMP:20251216T200025Z
SUMMARY:Student Free Day - No school
URL;VALUE=URI:https://www.tusd.org/schools/adams/calendar/8509041/student-f
 ree-day-no-school
DTSTART;VALUE=DATE:20260306
DTEND;VALUE=DATE:20260307
END:VEVENT
END:VCALENDAR
