BEGIN:VCALENDAR
VERSION:2.0
PRODID:SchoolNow
CALSCALE:GREGORIAN
BEGIN:VEVENT
UID:38f54678-730d-11f0-b381-0a58a9feac02
DTSTAMP:20251216T200024Z
SUMMARY:[PTA EVENT] POPPIN INTO SCHOOL
URL;VALUE=URI:https://www.tusd.org/schools/adams/calendar/8477240/pta-event
 -poppin-into-school
DTSTART:20250820T233000Z
DTEND:20250821T010000Z
END:VEVENT
END:VCALENDAR
