BEGIN:VCALENDAR
VERSION:2.0
PRODID:SchoolNow
CALSCALE:GREGORIAN
BEGIN:VEVENT
UID:2b853834-48a3-11f0-89dd-0affee7b3da7
DTSTAMP:20251216T200024Z
SUMMARY:TUSD STEAM FAIR
URL;VALUE=URI:https://www.tusd.org/schools/adams/calendar/8298666/tusd-stea
 m-fair
DTSTART;VALUE=DATE:20260305
DTEND;VALUE=DATE:20260306
END:VEVENT
END:VCALENDAR
