BEGIN:VCALENDAR
VERSION:2.0
PRODID:SchoolNow
CALSCALE:GREGORIAN
BEGIN:VEVENT
UID:21cb061a-35b7-11f0-8171-02809ff551e7
DTSTAMP:20251216T200024Z
SUMMARY:First Day of School!
URL;VALUE=URI:https://www.tusd.org/schools/adams/calendar/8170035/first-day
 -of-school
DTSTART;VALUE=DATE:20250821
DTEND;VALUE=DATE:20250822
END:VEVENT
END:VCALENDAR
