BEGIN:VCALENDAR
VERSION:2.0
PRODID:SchoolNow
CALSCALE:GREGORIAN
BEGIN:VEVENT
UID:b08496c2-3d05-11f1-8743-0eb4156582dd
DTSTAMP:20260425T113507Z
SUMMARY:Filing Deadline: Systems Support Specialist
URL;VALUE=URI:https://www.tusd.org/personnel-commission/calendar/9008059/fi
 ling-deadline-systems-support-specialist
DTSTART;VALUE=DATE:20260508
DTEND;VALUE=DATE:20260509
END:VEVENT
END:VCALENDAR
