BEGIN:VCALENDAR
VERSION:2.0
PRODID:SchoolNow
CALSCALE:GREGORIAN
BEGIN:VEVENT
UID:b364d07e-3cd2-11f1-8d48-0e90221a1903
DTSTAMP:20260425T113507Z
SUMMARY:Filing Deadline: Clerical Battery Levels I\, II\, & III
URL;VALUE=URI:https://www.tusd.org/personnel-commission/calendar/9007455/fi
 ling-deadline-clerical-battery-levels-i-ii-iii
DTSTART;VALUE=DATE:20260507
DTEND;VALUE=DATE:20260508
END:VEVENT
END:VCALENDAR
