BEGIN:VCALENDAR
VERSION:2.0
PRODID:SchoolNow
CALSCALE:GREGORIAN
BEGIN:VEVENT
UID:68a54780-4a08-11ea-9b3f-1287c89a111d
DTSTAMP:20200212T192521Z
SUMMARY:Personnel Commission Special Meeting
URL;VALUE=URI:https://www.tusd.org/personnel-commission/calendar/2198042/pe
 rsonnel-commission-special-meeting
DTSTART:20200212T233000Z
DTEND:20200213T000000Z
END:VEVENT
END:VCALENDAR
