BEGIN:VCALENDAR
VERSION:2.0
PRODID:SchoolNow
CALSCALE:GREGORIAN
BEGIN:VEVENT
UID:f51c361e-3177-11ea-96ad-0aa1110ca147
DTSTAMP:20200107T180307Z
SUMMARY:Personnel Commission Meeting
URL;VALUE=URI:https://www.tusd.org/personnel-commission/calendar/2172668/pe
 rsonnel-commission-meeting
DTSTART;VALUE=DATE:20201215
DTEND;VALUE=DATE:20201216
END:VEVENT
END:VCALENDAR
