BEGIN:VCALENDAR
VERSION:2.0
PRODID:SchoolNow
CALSCALE:GREGORIAN
BEGIN:VEVENT
UID:5dc1e60e-3174-11ea-aa4d-12198d943cdd
DTSTAMP:20200116T191950Z
SUMMARY:Personnel Commission Meeting
URL;VALUE=URI:https://www.tusd.org/personnel-commission/calendar/2172638/pe
 rsonnel-commission-meeting
DTSTART:20200122T003000Z
DTEND:20200122T013000Z
END:VEVENT
END:VCALENDAR
