BEGIN:VCALENDAR
VERSION:2.0
PRODID:SchoolNow
CALSCALE:GREGORIAN
BEGIN:VEVENT
UID:1cfdbe40-11ef-11ee-951f-0ebb41696803
DTSTAMP:20230623T235520Z
SUMMARY:Ready for Kindergarten - Parenting Group
LOCATION:Online Zoom
URL;VALUE=URI:https://www.tusd.org/district/calendar/4426228/ready-for-kind
 ergarten-parenting-group
DTSTART:20230726T193000Z
DTEND:20230726T203000Z
END:VEVENT
END:VCALENDAR
