BEGIN:VCALENDAR
VERSION:2.0
PRODID:SchoolNow
CALSCALE:GREGORIAN
BEGIN:VEVENT
UID:1cf60de4-11ef-11ee-a1c1-0ebb41696803
DTSTAMP:20230623T235520Z
SUMMARY:Ready for High School - Parenting Group
LOCATION:Online Zoom
URL;VALUE=URI:https://www.tusd.org/district/calendar/4426145/ready-for-high
 -school-parenting-group
DTSTART:20230726T203000Z
DTEND:20230726T213000Z
END:VEVENT
END:VCALENDAR
