BEGIN:VCALENDAR
VERSION:2.0
PRODID:SchoolNow
CALSCALE:GREGORIAN
BEGIN:VEVENT
UID:1cf5ba60-11ef-11ee-9621-0ebb41696803
DTSTAMP:20230623T235520Z
SUMMARY:Ready for Middle School - Parenting Group
LOCATION:Online Zoom
URL;VALUE=URI:https://www.tusd.org/district/calendar/4426141/ready-for-midd
 le-school-parenting-group
DTSTART:20230726T180000Z
DTEND:20230726T190000Z
END:VEVENT
END:VCALENDAR
