BEGIN:VCALENDAR
VERSION:2.0
PRODID:SchoolNow
CALSCALE:GREGORIAN
BEGIN:VEVENT
UID:1cf4d1e0-11ef-11ee-b9af-0ebb41696803
DTSTAMP:20230623T235520Z
SUMMARY:Ready for Middle School - Parenting Group
LOCATION:Online Zoom
URL;VALUE=URI:https://www.tusd.org/district/calendar/4426140/ready-for-midd
 le-school-parenting-group
DTSTART:20230719T180000Z
DTEND:20230719T190000Z
END:VEVENT
END:VCALENDAR
