BEGIN:VCALENDAR
VERSION:2.0
PRODID:SchoolNow
CALSCALE:GREGORIAN
BEGIN:VEVENT
UID:e3cfa672-0b0b-11ee-8113-0a68657f9ba7
DTSTAMP:20230623T235520Z
SUMMARY:Independence Day (Holiday)
URL;VALUE=URI:https://www.tusd.org/district/calendar/4389374/independence-d
 ay-holiday
DTSTART;VALUE=DATE:20230704
DTEND;VALUE=DATE:20230705
END:VEVENT
END:VCALENDAR
