BEGIN:VCALENDAR
VERSION:2.0
PRODID:SchoolNow
CALSCALE:GREGORIAN
BEGIN:VEVENT
UID:97dc894c-0ad9-11ee-a314-0a68657f9ba7
DTSTAMP:20230623T235520Z
SUMMARY:Juneteenth Holiday
URL;VALUE=URI:https://www.tusd.org/district/calendar/4388040/juneteenth-hol
 iday
DTSTART;VALUE=DATE:20230619
DTEND;VALUE=DATE:20230620
END:VEVENT
END:VCALENDAR
