BEGIN:VCALENDAR
VERSION:2.0
PRODID:SchoolNow
CALSCALE:GREGORIAN
BEGIN:VEVENT
UID:25728974-9d97-11ed-a86d-02ac9530edfb
DTSTAMP:20230623T235520Z
SUMMARY:South Area Family Info Night
LOCATION:South High School Performing Arts Center\, 4801 E Pacific Coast Hw
 y\, Torrance\, CA 90505\, USA
URL;VALUE=URI:https://www.tusd.org/district/calendar/3692415/south-area-fam
 ily-info-night
DTSTART:20230224T013000Z
DTEND:20230224T033000Z
END:VEVENT
END:VCALENDAR
