BEGIN:VCALENDAR
VERSION:2.0
PRODID:SchoolNow
CALSCALE:GREGORIAN
BEGIN:VEVENT
UID:eb6252f2-288c-11ed-b2c4-02d3afc341a9
DTSTAMP:20230623T235520Z
SUMMARY:Adult Education Graduation
URL;VALUE=URI:https://www.tusd.org/district/calendar/3317894/adult-educatio
 n-graduation
DTSTART;VALUE=DATE:20230601
DTEND;VALUE=DATE:20230602
END:VEVENT
END:VCALENDAR
