BEGIN:VCALENDAR
VERSION:2.0
PRODID:SchoolNow
CALSCALE:GREGORIAN
BEGIN:VEVENT
UID:eb623f6a-288c-11ed-91a4-02d3afc341a9
DTSTAMP:20230623T235520Z
SUMMARY:American Cancer Society Relay for Life 2023
LOCATION:South High School
URL;VALUE=URI:https://www.tusd.org/district/calendar/3317893/american-cance
 r-society-relay-for-life-2023
DTSTART;VALUE=DATE:20230506
DTEND;VALUE=DATE:20230507
END:VEVENT
END:VCALENDAR
