BEGIN:VCALENDAR
VERSION:2.0
PRODID:SchoolNow
CALSCALE:GREGORIAN
BEGIN:VEVENT
UID:eb620504-288c-11ed-bfd5-02d3afc341a9
DTSTAMP:20230623T235520Z
SUMMARY:End of Second Grading Period–Elementary Schools
URL;VALUE=URI:https://www.tusd.org/district/calendar/3317890/end-of-second-
 grading-period-elementary-schools
DTSTART;VALUE=DATE:20230615
DTEND;VALUE=DATE:20230616
END:VEVENT
END:VCALENDAR
