BEGIN:VCALENDAR
VERSION:2.0
PRODID:SchoolNow
CALSCALE:GREGORIAN
BEGIN:VEVENT
UID:eb61dc3c-288c-11ed-8e08-02d3afc341a9
DTSTAMP:20230623T235520Z
SUMMARY:End of Third Quarter – \nHigh Schools and Middle Schools
URL;VALUE=URI:https://www.tusd.org/district/calendar/3317888/end-of-third-q
 uarter-high-schools-and-middle-schools
DTSTART;VALUE=DATE:20230331
DTEND;VALUE=DATE:20230401
END:VEVENT
END:VCALENDAR
