BEGIN:VCALENDAR
VERSION:2.0
PRODID:SchoolNow
CALSCALE:GREGORIAN
BEGIN:VEVENT
UID:eb61b356-288c-11ed-9a9c-02d3afc341a9
DTSTAMP:20230623T235520Z
SUMMARY:Middle School Promotion
URL;VALUE=URI:https://www.tusd.org/district/calendar/3317886/middle-school-
 promotion
DTSTART;VALUE=DATE:20230615
DTEND;VALUE=DATE:20230616
END:VEVENT
END:VCALENDAR
