BEGIN:VCALENDAR
VERSION:2.0
PRODID:SchoolNow
CALSCALE:GREGORIAN
BEGIN:VEVENT
UID:eb619fba-288c-11ed-9e0e-02d3afc341a9
DTSTAMP:20230623T235520Z
SUMMARY:Non-Teaching Day (Local Non-Instructional Day)
URL;VALUE=URI:https://www.tusd.org/district/calendar/3317885/non-teaching-d
 ay-local-non-instructional-day
DTSTART;VALUE=DATE:20230317
DTEND;VALUE=DATE:20230318
END:VEVENT
END:VCALENDAR
